BEGIN:VCALENDAR
VERSION:2.0
PRODID:-//Tukios.com/
BEGIN:VEVENT
UID:0c9d3346-b4b1-4653-9921-dec0341fda15@www.gloverfh.com
DTSTAMP:20260423T060330Z
DTSTART:20260425T120000Z
DTEND:20260425T140000Z
SUMMARY:Visitation
DESCRIPTION:
URL:https://www.gloverfh.com/obituaries/sean-huey
LOCATION:Guiding Star United Holy Church 400 Main St  East Orange NJ 
	07018
GEO:40.7631964;-74.2130806
END:VEVENT
END:VCALENDAR