BEGIN:VCALENDAR
VERSION:2.0
PRODID:-//Tukios.com/
BEGIN:VEVENT
UID:d375e011-1ab2-4947-ae0b-852c71e066bc@www.gloverfh.com
DTSTAMP:20260423T060151Z
DTSTART:20260425T140000Z
DTEND:20260425T153000Z
SUMMARY:Funeral Service
DESCRIPTION:
URL:https://www.gloverfh.com/obituaries/sean-huey
LOCATION:Guiding Star United Holy Church 400 Main St  East Orange NJ 
	07018
GEO:40.7631964;-74.2130806
END:VEVENT
END:VCALENDAR