BEGIN:VCALENDAR
VERSION:2.0
PRODID:-//Tukios.com/
BEGIN:VEVENT
UID:8f041ef6-0b6e-4bc8-bf91-3d28934475c1@www.gloverfh.com
DTSTAMP:20260423T060205Z
DTSTART:20260425T163000Z
DTEND:20260425T173000Z
SUMMARY:Final Resting Place
DESCRIPTION:
URL:https://www.gloverfh.com/obituaries/sean-huey
LOCATION: 53 Inman Ave  Woodbridge Township NJ 07067
GEO:40.5982443;-74.3066879
END:VEVENT
END:VCALENDAR